BEGIN:VCALENDAR
VERSION:2.0
PRODID:-//Firbank Grammar - ECPv5.0.2.1//NONSGML v1.0//EN
CALSCALE:GREGORIAN
METHOD:PUBLISH
X-WR-CALNAME:Firbank Grammar
X-ORIGINAL-URL:https://www.firbank.vic.edu.au
X-WR-CALDESC:Events for Firbank Grammar
BEGIN:VTIMEZONE
TZID:Australia/Melbourne
BEGIN:STANDARD
TZOFFSETFROM:+1100
TZOFFSETTO:+1000
TZNAME:AEST
DTSTART:20200404T160000
END:STANDARD
BEGIN:DAYLIGHT
TZOFFSETFROM:+1000
TZOFFSETTO:+1100
TZNAME:AEDT
DTSTART:20201003T160000
END:DAYLIGHT
END:VTIMEZONE
BEGIN:VEVENT
DTSTART;VALUE=DATE:20200224
DTEND;VALUE=DATE:20200229
DTSTAMP:20200301T015933
CREATED:20200108T233158Z
LAST-MODIFIED:20200108T233158Z
UID:789709-1582502400-1582934399@www.firbank.vic.edu.au
SUMMARY:Green Week
DESCRIPTION:
URL:https://www.firbank.vic.edu.au/event/green-week/
CATEGORIES:Senior Campus
END:VEVENT
BEGIN:VEVENT
DTSTART;TZID=Australia/Melbourne:20200224T144500
DTEND;TZID=Australia/Melbourne:20200224T153000
DTSTAMP:20200301T015933
CREATED:20200115T025419Z
LAST-MODIFIED:20200115T025419Z
UID:789805-1582555500-1582558200@www.firbank.vic.edu.au
SUMMARY:Brighton Junior Assembly
DESCRIPTION:
URL:https://www.firbank.vic.edu.au/event/brighton-junior-assembly-4/
CATEGORIES:Junior Campus - Brighton
END:VEVENT
BEGIN:VEVENT
DTSTART;TZID=Australia/Melbourne:20200225T190000
DTEND;TZID=Australia/Melbourne:20200225T190000
DTSTAMP:20200301T015933
CREATED:20191125T030439Z
LAST-MODIFIED:20191125T030439Z
UID:789478-1582657200-1582657200@www.firbank.vic.edu.au
SUMMARY:Firbank Association Meeting
DESCRIPTION:
URL:https://www.firbank.vic.edu.au/event/firbank-association-meeting/
LOCATION:Hindley House
CATEGORIES:General
END:VEVENT
BEGIN:VEVENT
DTSTART;VALUE=DATE:20200226
DTEND;VALUE=DATE:20200227
DTSTAMP:20200301T015933
CREATED:20200108T233355Z
LAST-MODIFIED:20200108T233355Z
UID:789711-1582675200-1582761599@www.firbank.vic.edu.au
SUMMARY:Senior School House Diving
DESCRIPTION:
URL:https://www.firbank.vic.edu.au/event/senior-school-house-diving/
CATEGORIES:Senior Campus
END:VEVENT
BEGIN:VEVENT
DTSTART;VALUE=DATE:20200226
DTEND;VALUE=DATE:20200229
DTSTAMP:20200301T015933
CREATED:20200115T025531Z
LAST-MODIFIED:20200115T025544Z
UID:789807-1582675200-1582934399@www.firbank.vic.edu.au
SUMMARY:Brighton Junior Year 5 Camp Phillip Island
DESCRIPTION:
URL:https://www.firbank.vic.edu.au/event/year-5-camp-phillip-island/
CATEGORIES:Junior Campus - Brighton
END:VEVENT
BEGIN:VEVENT
DTSTART;TZID=Australia/Melbourne:20200226T090000
DTEND;TZID=Australia/Melbourne:20200226T093000
DTSTAMP:20200301T015933
CREATED:20200116T222300Z
LAST-MODIFIED:20200116T222300Z
UID:789873-1582707600-1582709400@www.firbank.vic.edu.au
SUMMARY:Sandringham Assembly
DESCRIPTION:
URL:https://www.firbank.vic.edu.au/event/sandringham-assembly-12/
CATEGORIES:Junior Campus - Sandringham
END:VEVENT
BEGIN:VEVENT
DTSTART;TZID=Australia/Melbourne:20200226T090000
DTEND;TZID=Australia/Melbourne:20200226T100000
DTSTAMP:20200301T015933
CREATED:20200116T222600Z
LAST-MODIFIED:20200116T222600Z
UID:789875-1582707600-1582711200@www.firbank.vic.edu.au
SUMMARY:Sandringham Open Morning
DESCRIPTION:
URL:https://www.firbank.vic.edu.au/event/sandringham-open-morning-5/
CATEGORIES:Junior Campus - Sandringham
END:VEVENT
BEGIN:VEVENT
DTSTART;TZID=Australia/Melbourne:20200228T160000
DTEND;TZID=Australia/Melbourne:20200228T200000
DTSTAMP:20200301T015933
CREATED:20191125T032648Z
LAST-MODIFIED:20191125T032648Z
UID:789508-1582905600-1582920000@www.firbank.vic.edu.au
SUMMARY:Sandringham Twilight Fair
DESCRIPTION:
URL:https://www.firbank.vic.edu.au/event/sandringham-twilight-fair/
CATEGORIES:Junior Campus - Sandringham
END:VEVENT
BEGIN:VEVENT
DTSTART;VALUE=DATE:20200229
DTEND;VALUE=DATE:20200302
DTSTAMP:20200301T015933
CREATED:20200108T234025Z
LAST-MODIFIED:20200108T234045Z
UID:789713-1582934400-1583107199@www.firbank.vic.edu.au
SUMMARY:Rowing State Championships
DESCRIPTION:
URL:https://www.firbank.vic.edu.au/event/rowing-state-championships/
CATEGORIES:Senior Campus
END:VEVENT
BEGIN:VEVENT
DTSTART;VALUE=DATE:20200302
DTEND;VALUE=DATE:20200307
DTSTAMP:20200301T015933
CREATED:20200108T234150Z
LAST-MODIFIED:20200108T234150Z
UID:789715-1583107200-1583539199@www.firbank.vic.edu.au
SUMMARY:Year 8 Cairns Trip
DESCRIPTION:
URL:https://www.firbank.vic.edu.au/event/year-8-cairns-trip-2/
CATEGORIES:Senior Campus
END:VEVENT
BEGIN:VEVENT
DTSTART;TZID=Australia/Melbourne:20200302T144500
DTEND;TZID=Australia/Melbourne:20200302T153000
DTSTAMP:20200301T015933
CREATED:20200115T025650Z
LAST-MODIFIED:20200115T025650Z
UID:789810-1583160300-1583163000@www.firbank.vic.edu.au
SUMMARY:Brighton Junior Assembly
DESCRIPTION:
URL:https://www.firbank.vic.edu.au/event/brighton-junior-assembly-5/
CATEGORIES:Junior Campus - Brighton
END:VEVENT
BEGIN:VEVENT
DTSTART;VALUE=DATE:20200303
DTEND;VALUE=DATE:20200304
DTSTAMP:20200301T015933
CREATED:20200108T234256Z
LAST-MODIFIED:20200108T234256Z
UID:789717-1583193600-1583279999@www.firbank.vic.edu.au
SUMMARY:International Women's Week Assembly
DESCRIPTION:
URL:https://www.firbank.vic.edu.au/event/international-womens-week-assembly/
LOCATION:CCA
CATEGORIES:Senior Campus
END:VEVENT
BEGIN:VEVENT
DTSTART;VALUE=DATE:20200303
DTEND;VALUE=DATE:20200304
DTSTAMP:20200301T015933
CREATED:20200108T234431Z
LAST-MODIFIED:20200108T234431Z
UID:789719-1583193600-1583279999@www.firbank.vic.edu.au
SUMMARY:Clean Up Australia Day
DESCRIPTION:
URL:https://www.firbank.vic.edu.au/event/clean-up-australia-day-2/
CATEGORIES:General
END:VEVENT
BEGIN:VEVENT
DTSTART;TZID=Australia/Melbourne:20200303T180000
DTEND;TZID=Australia/Melbourne:20200303T193000
DTSTAMP:20200301T015933
CREATED:20200115T025922Z
LAST-MODIFIED:20200120T043657Z
UID:789812-1583258400-1583263800@www.firbank.vic.edu.au
SUMMARY:Junior School Year 3 JIP Strings Evening
DESCRIPTION:
URL:https://www.firbank.vic.edu.au/event/brighton-junior-year-3-jip-strings-evening/
CATEGORIES:Junior Campus - Sandringham,Junior Campus - Brighton
END:VEVENT
BEGIN:VEVENT
DTSTART;TZID=Australia/Melbourne:20200304T090000
DTEND;TZID=Australia/Melbourne:20200304T093000
DTSTAMP:20200301T015933
CREATED:20200120T043736Z
LAST-MODIFIED:20200120T043736Z
UID:789881-1583312400-1583314200@www.firbank.vic.edu.au
SUMMARY:Sandringham Assembly
DESCRIPTION:
URL:https://www.firbank.vic.edu.au/event/sandringham-assembly-13/
CATEGORIES:Junior Campus - Sandringham
END:VEVENT
BEGIN:VEVENT
DTSTART;TZID=Australia/Melbourne:20200305T090000
DTEND;TZID=Australia/Melbourne:20200305T100000
DTSTAMP:20200301T015933
CREATED:20200115T030040Z
LAST-MODIFIED:20200115T030040Z
UID:789814-1583398800-1583402400@www.firbank.vic.edu.au
SUMMARY:PATH Meeting
DESCRIPTION:
URL:https://www.firbank.vic.edu.au/event/path-meeting-5/
CATEGORIES:Junior Campus - Brighton
END:VEVENT
BEGIN:VEVENT
DTSTART;TZID=Australia/Melbourne:20200305T141500
DTEND;TZID=Australia/Melbourne:20200305T144500
DTSTAMP:20200301T015933
CREATED:20200115T030240Z
LAST-MODIFIED:20200115T035242Z
UID:789816-1583417700-1583419500@www.firbank.vic.edu.au
SUMMARY:Brighton Junior Year 6 Students Canberra Q&A
DESCRIPTION:
URL:https://www.firbank.vic.edu.au/event/brighton-junior-year-6-students-qa/
CATEGORIES:Junior Campus - Brighton
END:VEVENT
BEGIN:VEVENT
DTSTART;VALUE=DATE:20200306
DTEND;VALUE=DATE:20200307
DTSTAMP:20200301T015933
CREATED:20200120T045646Z
LAST-MODIFIED:20200120T045646Z
UID:789887-1583452800-1583539199@www.firbank.vic.edu.au
SUMMARY:Sandringham Years 3-6 Divisional Swimming Carnival
DESCRIPTION:
URL:https://www.firbank.vic.edu.au/event/sandringham-years-3-6-divisional-swimming-carnival/
CATEGORIES:Junior Campus - Sandringham
END:VEVENT
BEGIN:VEVENT
DTSTART;TZID=Australia/Melbourne:20200306T073000
DTEND;TZID=Australia/Melbourne:20200306T090000
DTSTAMP:20200301T015933
CREATED:20200108T234702Z
LAST-MODIFIED:20200108T234702Z
UID:789721-1583479800-1583485200@www.firbank.vic.edu.au
SUMMARY:International Women's Day Breakfast
DESCRIPTION:
URL:https://www.firbank.vic.edu.au/event/international-womens-day-breakfast/
CATEGORIES:General
END:VEVENT
BEGIN:VEVENT
DTSTART;TZID=Australia/Melbourne:20200306T081500
DTEND;TZID=Australia/Melbourne:20200306T084500
DTSTAMP:20200301T015933
CREATED:20200115T030425Z
LAST-MODIFIED:20200115T030426Z
UID:789818-1583482500-1583484300@www.firbank.vic.edu.au
SUMMARY:Brighton Junior Year 6 Parent Canberra Meeting
DESCRIPTION:
URL:https://www.firbank.vic.edu.au/event/brighton-junior-year-6-parent-canberra-meeting/
CATEGORIES:Junior Campus - Brighton
END:VEVENT
BEGIN:VEVENT
DTSTART;TZID=Australia/Melbourne:20200306T100000
DTEND;TZID=Australia/Melbourne:20200306T130000
DTSTAMP:20200301T015933
CREATED:20200115T035459Z
LAST-MODIFIED:20200115T035459Z
UID:789822-1583488800-1583499600@www.firbank.vic.edu.au
SUMMARY:Brighton Junior Beachside Division Swim Carnival
DESCRIPTION:
URL:https://www.firbank.vic.edu.au/event/brighton-junior-beachside-division-swim-carnival/
CATEGORIES:Junior Campus - Brighton
END:VEVENT
BEGIN:VEVENT
DTSTART;TZID=Australia/Melbourne:20200306T131000
DTEND;TZID=Australia/Melbourne:20200306T144000
DTSTAMP:20200301T015933
CREATED:20200108T235137Z
LAST-MODIFIED:20200108T235137Z
UID:789723-1583500200-1583505600@www.firbank.vic.edu.au
SUMMARY:FGS & BGS Year 11 Lunch Chapel
DESCRIPTION:
URL:https://www.firbank.vic.edu.au/event/fgs-bgs-year-11-lunch-chapel/
CATEGORIES:Senior Campus
END:VEVENT
BEGIN:VEVENT
DTSTART;VALUE=DATE:20200308
DTEND;VALUE=DATE:20200309
DTSTAMP:20200301T015933
CREATED:20200108T235455Z
LAST-MODIFIED:20200108T235455Z
UID:789725-1583625600-1583711999@www.firbank.vic.edu.au
SUMMARY:International Women's Day
DESCRIPTION:
URL:https://www.firbank.vic.edu.au/event/international-womens-day/
CATEGORIES:General
END:VEVENT
BEGIN:VEVENT
DTSTART;VALUE=DATE:20200309
DTEND;VALUE=DATE:20200310
DTSTAMP:20200301T015933
CREATED:20200108T235530Z
LAST-MODIFIED:20200108T235530Z
UID:789727-1583712000-1583798399@www.firbank.vic.edu.au
SUMMARY:Labour Day - No Students
DESCRIPTION:
URL:https://www.firbank.vic.edu.au/event/labour-day-no-students/
CATEGORIES:General
END:VEVENT
BEGIN:VEVENT
DTSTART;VALUE=DATE:20200310
DTEND;VALUE=DATE:20200314
DTSTAMP:20200301T015933
CREATED:20200108T235657Z
LAST-MODIFIED:20200108T235657Z
UID:789729-1583798400-1584143999@www.firbank.vic.edu.au
SUMMARY:International Languages Week
DESCRIPTION:
URL:https://www.firbank.vic.edu.au/event/international-languages-week/
CATEGORIES:Senior Campus
END:VEVENT
BEGIN:VEVENT
DTSTART;VALUE=DATE:20200310
DTEND;VALUE=DATE:20200314
DTSTAMP:20200301T015933
CREATED:20200115T035621Z
LAST-MODIFIED:20200115T035621Z
UID:789824-1583798400-1584143999@www.firbank.vic.edu.au
SUMMARY:Brighton Junior Year 6 Canberra Camp
DESCRIPTION:
URL:https://www.firbank.vic.edu.au/event/brighton-junior-year-6-canberra-camp/
CATEGORIES:Junior Campus - Brighton
END:VEVENT
BEGIN:VEVENT
DTSTART;VALUE=DATE:20200311
DTEND;VALUE=DATE:20200312
DTSTAMP:20200301T015933
CREATED:20200109T000713Z
LAST-MODIFIED:20200109T000713Z
UID:789731-1583884800-1583971199@www.firbank.vic.edu.au
SUMMARY:Senior School Languages Assembly
DESCRIPTION:
URL:https://www.firbank.vic.edu.au/event/senior-school-languages-assembly/
LOCATION:CCA
CATEGORIES:Senior Campus
END:VEVENT
BEGIN:VEVENT
DTSTART;VALUE=DATE:20200311
DTEND;VALUE=DATE:20200312
DTSTAMP:20200301T015933
CREATED:20200115T035946Z
LAST-MODIFIED:20200115T035946Z
UID:789828-1583884800-1583971199@www.firbank.vic.edu.au
SUMMARY:Brighton Junior Division Tennis
DESCRIPTION:
URL:https://www.firbank.vic.edu.au/event/brighton-junior-division-tennis/
CATEGORIES:Junior Campus - Brighton
END:VEVENT
BEGIN:VEVENT
DTSTART;TZID=Australia/Melbourne:20200311T090000
DTEND;TZID=Australia/Melbourne:20200311T094500
DTSTAMP:20200301T015933
CREATED:20200120T045503Z
LAST-MODIFIED:20200120T045503Z
UID:789883-1583917200-1583919900@www.firbank.vic.edu.au
SUMMARY:Sandringham Assembly
DESCRIPTION:
URL:https://www.firbank.vic.edu.au/event/sandringham-assembly-14/
CATEGORIES:Junior Campus - Sandringham
END:VEVENT
BEGIN:VEVENT
DTSTART;TZID=Australia/Melbourne:20200311T090000
DTEND;TZID=Australia/Melbourne:20200311T110000
DTSTAMP:20200301T015933
CREATED:20200120T045553Z
LAST-MODIFIED:20200120T045553Z
UID:789885-1583917200-1583924400@www.firbank.vic.edu.au
SUMMARY:Sandringham Grandparents and Special Friends Morning
DESCRIPTION:
URL:https://www.firbank.vic.edu.au/event/sandringham-grandparents-and-special-friends-morning/
CATEGORIES:Junior Campus - Sandringham
END:VEVENT
BEGIN:VEVENT
DTSTART;TZID=Australia/Melbourne:20200311T190000
DTEND;TZID=Australia/Melbourne:20200311T190000
DTSTAMP:20200301T015933
CREATED:20200214T043526Z
LAST-MODIFIED:20200214T043526Z
UID:790476-1583953200-1583953200@www.firbank.vic.edu.au
SUMMARY:Friends of Music Meeting
DESCRIPTION:
URL:https://www.firbank.vic.edu.au/event/friends-of-music-meeting-5/
CATEGORIES:Senior Campus
END:VEVENT
BEGIN:VEVENT
DTSTART;VALUE=DATE:20200313
DTEND;VALUE=DATE:20200316
DTSTAMP:20200301T015933
CREATED:20190806T042332Z
LAST-MODIFIED:20190807T021427Z
UID:788667-1584057600-1584316799@www.firbank.vic.edu.au
SUMMARY:Head of Schoolgirls Weekend
DESCRIPTION:
URL:https://www.firbank.vic.edu.au/event/head-of-schoolgirls/
CATEGORIES:Senior Campus
END:VEVENT
BEGIN:VEVENT
DTSTART;VALUE=DATE:20200313
DTEND;VALUE=DATE:20200314
DTSTAMP:20200301T015933
CREATED:20200109T000834Z
LAST-MODIFIED:20200109T000834Z
UID:789733-1584057600-1584143999@www.firbank.vic.edu.au
SUMMARY:Year 7 Languages Breakfast
DESCRIPTION:
URL:https://www.firbank.vic.edu.au/event/year-7-languages-breakfast-2/
CATEGORIES:Senior Campus
END:VEVENT
BEGIN:VEVENT
DTSTART;VALUE=DATE:20200313
DTEND;VALUE=DATE:20200314
DTSTAMP:20200301T015933
CREATED:20200120T045722Z
LAST-MODIFIED:20200120T045722Z
UID:789890-1584057600-1584143999@www.firbank.vic.edu.au
SUMMARY:Ride to School Day
DESCRIPTION:
URL:https://www.firbank.vic.edu.au/event/ride-to-school-day/
CATEGORIES:General
END:VEVENT
BEGIN:VEVENT
DTSTART;TZID=Australia/Melbourne:20200313T170000
DTEND;TZID=Australia/Melbourne:20200313T190000
DTSTAMP:20200301T015933
CREATED:20200109T025502Z
LAST-MODIFIED:20200109T025502Z
UID:789736-1584118800-1584126000@www.firbank.vic.edu.au
SUMMARY:VCE Drama\, Dance and Theatre Studies Class Performances
DESCRIPTION:
URL:https://www.firbank.vic.edu.au/event/vce-drama-dance-and-theatre-studies-class-performances/
LOCATION:LWH
CATEGORIES:Senior Campus
END:VEVENT
BEGIN:VEVENT
DTSTART;TZID=Australia/Melbourne:20200316T144500
DTEND;TZID=Australia/Melbourne:20200316T153000
DTSTAMP:20200301T015933
CREATED:20200115T035841Z
LAST-MODIFIED:20200115T035841Z
UID:789826-1584369900-1584372600@www.firbank.vic.edu.au
SUMMARY:Brighton Junior Assembly
DESCRIPTION:
URL:https://www.firbank.vic.edu.au/event/brighton-junior-assembly-6/
CATEGORIES:Junior Campus - Brighton
END:VEVENT
BEGIN:VEVENT
DTSTART;VALUE=DATE:20200317
DTEND;VALUE=DATE:20200318
DTSTAMP:20200301T015933
CREATED:20200115T040910Z
LAST-MODIFIED:20200115T040910Z
UID:789834-1584403200-1584489599@www.firbank.vic.edu.au
SUMMARY:Brighton Junior Destination Imagination Parent Information Session
DESCRIPTION:
URL:https://www.firbank.vic.edu.au/event/brighton-junior-destination-imagination-parent-information-session/
CATEGORIES:Junior Campus - Brighton
END:VEVENT
BEGIN:VEVENT
DTSTART;TZID=Australia/Melbourne:20200317T144500
DTEND;TZID=Australia/Melbourne:20200317T203000
DTSTAMP:20200301T015933
CREATED:20200123T224232Z
LAST-MODIFIED:20200123T224232Z
UID:789948-1584456300-1584477000@www.firbank.vic.edu.au
SUMMARY:Senior School Parent Teacher Interviews
DESCRIPTION:
URL:https://www.firbank.vic.edu.au/event/senior-school-parent-teacher-interviews-4/
CATEGORIES:Senior Campus
END:VEVENT
BEGIN:VEVENT
DTSTART;TZID=Australia/Melbourne:20200317T180000
DTEND;TZID=Australia/Melbourne:20200317T193000
DTSTAMP:20200301T015933
CREATED:20200115T040704Z
LAST-MODIFIED:20200115T040704Z
UID:789830-1584468000-1584473400@www.firbank.vic.edu.au
SUMMARY:Meet The Music Teacher
DESCRIPTION:
URL:https://www.firbank.vic.edu.au/event/meet-the-music-teacher/
LOCATION:The Recital Hall
CATEGORIES:Junior Campus - Sandringham,Junior Campus - Brighton,Senior Campus
END:VEVENT
BEGIN:VEVENT
DTSTART;TZID=Australia/Melbourne:20200318T090000
DTEND;TZID=Australia/Melbourne:20200318T093000
DTSTAMP:20200301T015933
CREATED:20200120T045853Z
LAST-MODIFIED:20200120T045853Z
UID:789892-1584522000-1584523800@www.firbank.vic.edu.au
SUMMARY:Sandringham Assembly
DESCRIPTION:
URL:https://www.firbank.vic.edu.au/event/sandringham-assembly-15/
CATEGORIES:Junior Campus - Sandringham
END:VEVENT
BEGIN:VEVENT
DTSTART;TZID=Australia/Melbourne:20200319T090000
DTEND;TZID=Australia/Melbourne:20200319T100000
DTSTAMP:20200301T015933
CREATED:20200109T034857Z
LAST-MODIFIED:20200109T034857Z
UID:789739-1584608400-1584612000@www.firbank.vic.edu.au
SUMMARY:Senior School & Brighton Junior Campus Open Morning
DESCRIPTION:
URL:https://www.firbank.vic.edu.au/event/senior-school-brighton-junior-campus-open-morning/
LOCATION:Hindley House
CATEGORIES:Senior Campus,Junior Campus - Brighton
END:VEVENT
BEGIN:VEVENT
DTSTART;VALUE=DATE:20200320
DTEND;VALUE=DATE:20200321
DTSTAMP:20200301T015933
CREATED:20200120T050131Z
LAST-MODIFIED:20200120T050131Z
UID:789894-1584662400-1584748799@www.firbank.vic.edu.au
SUMMARY:Sandringham District Summer Round Robin
DESCRIPTION:
URL:https://www.firbank.vic.edu.au/event/sandringham-district-summer-round-robin/
CATEGORIES:Junior Campus - Sandringham
END:VEVENT
BEGIN:VEVENT
DTSTART;TZID=Australia/Melbourne:20200320T120000
DTEND;TZID=Australia/Melbourne:20200320T150000
DTSTAMP:20200301T015933
CREATED:20200115T040817Z
LAST-MODIFIED:20200115T040817Z
UID:789832-1584705600-1584716400@www.firbank.vic.edu.au
SUMMARY:Brighton Junior Years 3 - 6 House Cross Country
DESCRIPTION:
URL:https://www.firbank.vic.edu.au/event/brighton-junior-years-3-6-house-cross-country/
CATEGORIES:Junior Campus - Brighton
END:VEVENT
BEGIN:VEVENT
DTSTART;TZID=Australia/Melbourne:20200320T131000
DTEND;TZID=Australia/Melbourne:20200320T144000
DTSTAMP:20200301T015933
CREATED:20200109T035446Z
LAST-MODIFIED:20200109T035446Z
UID:789741-1584709800-1584715200@www.firbank.vic.edu.au
SUMMARY:FGS & BGS Year 8 Lunch Chapel
DESCRIPTION:
URL:https://www.firbank.vic.edu.au/event/fgs-bgs-year-8-lunch-chapel/
CATEGORIES:Senior Campus
END:VEVENT
BEGIN:VEVENT
DTSTART;TZID=Australia/Melbourne:20200320T183000
DTEND;TZID=Australia/Melbourne:20200320T203000
DTSTAMP:20200301T015933
CREATED:20191125T032112Z
LAST-MODIFIED:20191215T215341Z
UID:789494-1584729000-1584736200@www.firbank.vic.edu.au
SUMMARY:1980 40 Year Reunion
DESCRIPTION:
URL:https://www.firbank.vic.edu.au/event/1980-40-year-reunion/
LOCATION:Hindley House
CATEGORIES:General
END:VEVENT
BEGIN:VEVENT
DTSTART;TZID=Australia/Melbourne:20200320T193000
DTEND;TZID=Australia/Melbourne:20200320T210000
DTSTAMP:20200301T015933
CREATED:20200109T040028Z
LAST-MODIFIED:20200109T040028Z
UID:789743-1584732600-1584738000@www.firbank.vic.edu.au
SUMMARY:Year 7 Pyjama Party
DESCRIPTION:
URL:https://www.firbank.vic.edu.au/event/year-7-pyjama-party/
CATEGORIES:Senior Campus
END:VEVENT
BEGIN:VEVENT
DTSTART;VALUE=DATE:20200321
DTEND;VALUE=DATE:20200322
DTSTAMP:20200301T015933
CREATED:20200109T040232Z
LAST-MODIFIED:20200109T040232Z
UID:789745-1584748800-1584835199@www.firbank.vic.edu.au
SUMMARY:Sandringham Scholarship Testing
DESCRIPTION:
URL:https://www.firbank.vic.edu.au/event/sandringham-scholarship-testing/
CATEGORIES:Junior Campus - Sandringham
END:VEVENT
BEGIN:VEVENT
DTSTART;VALUE=DATE:20200323
DTEND;VALUE=DATE:20200324
DTSTAMP:20200301T015933
CREATED:20200109T040858Z
LAST-MODIFIED:20200109T040858Z
UID:789749-1584921600-1585007999@www.firbank.vic.edu.au
SUMMARY:National Ride to School Day
DESCRIPTION:
URL:https://www.firbank.vic.edu.au/event/national-ride-to-school-day/
CATEGORIES:General
END:VEVENT
BEGIN:VEVENT
DTSTART;TZID=Australia/Melbourne:20200323T090000
DTEND;TZID=Australia/Melbourne:20200325T100000
DTSTAMP:20200301T015933
CREATED:20200120T050756Z
LAST-MODIFIED:20200120T050756Z
UID:789900-1584954000-1585130400@www.firbank.vic.edu.au
SUMMARY:Sandringham Group Tour
DESCRIPTION:
URL:https://www.firbank.vic.edu.au/event/sandringham-group-tour-4/
CATEGORIES:Junior Campus - Sandringham
END:VEVENT
BEGIN:VEVENT
DTSTART;TZID=Australia/Melbourne:20200323T144500
DTEND;TZID=Australia/Melbourne:20200323T153000
DTSTAMP:20200301T015933
CREATED:20200115T040950Z
LAST-MODIFIED:20200115T040950Z
UID:789836-1584974700-1584977400@www.firbank.vic.edu.au
SUMMARY:Brighton Junior Assembly
DESCRIPTION:
URL:https://www.firbank.vic.edu.au/event/brighton-junior-assembly-7/
CATEGORIES:Junior Campus - Brighton
END:VEVENT
BEGIN:VEVENT
DTSTART;VALUE=DATE:20200324
DTEND;VALUE=DATE:20200325
DTSTAMP:20200301T015933
CREATED:20200115T041907Z
LAST-MODIFIED:20200115T041907Z
UID:789838-1585008000-1585094399@www.firbank.vic.edu.au
SUMMARY:Brighton Junior Year 6 Cyber Safety Workshop
DESCRIPTION:
URL:https://www.firbank.vic.edu.au/event/brighton-junior-year-6-cyber-safety-workshop/
CATEGORIES:Junior Campus - Brighton
END:VEVENT
BEGIN:VEVENT
DTSTART;VALUE=DATE:20200324
DTEND;VALUE=DATE:20200325
DTSTAMP:20200301T015933
CREATED:20200115T042613Z
LAST-MODIFIED:20200115T042613Z
UID:789840-1585008000-1585094399@www.firbank.vic.edu.au
SUMMARY:Brighton Junior Parent/Teacher Interviews
DESCRIPTION:
URL:https://www.firbank.vic.edu.au/event/brighton-junior-parent-teacher-interviews/
CATEGORIES:Junior Campus - Brighton
END:VEVENT
BEGIN:VEVENT
DTSTART;TZID=Australia/Melbourne:20200324T170000
DTEND;TZID=Australia/Melbourne:20200324T200000
DTSTAMP:20200301T015933
CREATED:20200109T040502Z
LAST-MODIFIED:20200109T040502Z
UID:789747-1585069200-1585080000@www.firbank.vic.edu.au
SUMMARY:Twilight Jazz
DESCRIPTION:
URL:https://www.firbank.vic.edu.au/event/twilight-jazz/
LOCATION:CCA
CATEGORIES:Senior Campus
END:VEVENT
BEGIN:VEVENT
DTSTART;TZID=Australia/Melbourne:20200324T190000
DTEND;TZID=Australia/Melbourne:20200324T190000
DTSTAMP:20200301T015933
CREATED:20191125T031618Z
LAST-MODIFIED:20191125T031618Z
UID:789486-1585076400-1585076400@www.firbank.vic.edu.au
SUMMARY:FOGA Annual General Meeting
DESCRIPTION:
URL:https://www.firbank.vic.edu.au/event/foga-annual-general-meeting/
LOCATION:Hindley House
CATEGORIES:General
END:VEVENT
BEGIN:VEVENT
DTSTART;VALUE=DATE:20200325
DTEND;VALUE=DATE:20200326
DTSTAMP:20200301T015933
CREATED:20200109T041404Z
LAST-MODIFIED:20200109T041404Z
UID:789751-1585094400-1585180799@www.firbank.vic.edu.au
SUMMARY:Senior School House Athletics Carnival
DESCRIPTION:
URL:https://www.firbank.vic.edu.au/event/senior-school-house-athletics-carnival-2/
CATEGORIES:Senior Campus
END:VEVENT
BEGIN:VEVENT
DTSTART;VALUE=DATE:20200325
DTEND;VALUE=DATE:20200326
DTSTAMP:20200301T015933
CREATED:20200109T041650Z
LAST-MODIFIED:20200109T041650Z
UID:789753-1585094400-1585180799@www.firbank.vic.edu.au
SUMMARY:Year 9 Vietnam Meet The Leader
DESCRIPTION:
URL:https://www.firbank.vic.edu.au/event/year-9-vietnam-meet-the-leader/
CATEGORIES:Senior Campus
END:VEVENT
BEGIN:VEVENT
DTSTART;VALUE=DATE:20200325
DTEND;VALUE=DATE:20200326
DTSTAMP:20200301T015933
CREATED:20200109T041735Z
LAST-MODIFIED:20200109T041735Z
UID:789755-1585094400-1585180799@www.firbank.vic.edu.au
SUMMARY:Year 9 Parent Information Night Vietnam
DESCRIPTION:
URL:https://www.firbank.vic.edu.au/event/year-9-parent-information-night-vietnam/
CATEGORIES:Senior Campus
END:VEVENT
BEGIN:VEVENT
DTSTART;VALUE=DATE:20200325
DTEND;VALUE=DATE:20200326
DTSTAMP:20200301T015933
CREATED:20200115T042931Z
LAST-MODIFIED:20200115T042931Z
UID:789842-1585094400-1585180799@www.firbank.vic.edu.au
SUMMARY:Brighton Junior Regional Swimming
DESCRIPTION:
URL:https://www.firbank.vic.edu.au/event/brighton-junior-regional-swimming/
CATEGORIES:Junior Campus - Brighton
END:VEVENT
BEGIN:VEVENT
DTSTART;VALUE=DATE:20200325
DTEND;VALUE=DATE:20200326
DTSTAMP:20200301T015933
CREATED:20200120T050255Z
LAST-MODIFIED:20200120T050255Z
UID:789896-1585094400-1585180799@www.firbank.vic.edu.au
SUMMARY:Sandringham Year 5 & 6 Canberra Camp
DESCRIPTION:
URL:https://www.firbank.vic.edu.au/event/sandringham-year-5-6-canberra-camp/
CATEGORIES:Junior Campus - Sandringham
END:VEVENT
BEGIN:VEVENT
DTSTART;VALUE=DATE:20200326
DTEND;VALUE=DATE:20200327
DTSTAMP:20200301T015933
CREATED:20200115T043339Z
LAST-MODIFIED:20200115T043339Z
UID:789845-1585180800-1585267199@www.firbank.vic.edu.au
SUMMARY:Brighton Junior Parent/Teacher Interviews
DESCRIPTION:
URL:https://www.firbank.vic.edu.au/event/brighton-junior-parent-teacher-interviews-2/
CATEGORIES:Junior Campus - Brighton
END:VEVENT
BEGIN:VEVENT
DTSTART;TZID=Australia/Melbourne:20200326T140000
DTEND;TZID=Australia/Melbourne:20200326T150000
DTSTAMP:20200301T015933
CREATED:20200120T050354Z
LAST-MODIFIED:20200120T050354Z
UID:789898-1585231200-1585234800@www.firbank.vic.edu.au
SUMMARY:Sandringham Easter Service
DESCRIPTION:
URL:https://www.firbank.vic.edu.au/event/sandringham-easter-service/
CATEGORIES:Junior Campus - Sandringham
END:VEVENT
BEGIN:VEVENT
DTSTART;TZID=Australia/Melbourne:20200326T144500
DTEND;TZID=Australia/Melbourne:20200326T203000
DTSTAMP:20200301T015933
CREATED:20200123T224320Z
LAST-MODIFIED:20200123T224320Z
UID:789958-1585233900-1585254600@www.firbank.vic.edu.au
SUMMARY:Senior School Parent Teacher Interviews
DESCRIPTION:
URL:https://www.firbank.vic.edu.au/event/senior-school-parent-teacher-interviews-5/
CATEGORIES:Senior Campus
END:VEVENT
BEGIN:VEVENT
DTSTART;VALUE=DATE:20200327
DTEND;VALUE=DATE:20200328
DTSTAMP:20200301T015934
CREATED:20200120T051140Z
LAST-MODIFIED:20200120T051140Z
UID:789902-1585267200-1585353599@www.firbank.vic.edu.au
SUMMARY:Last day of Term 1
DESCRIPTION:
URL:https://www.firbank.vic.edu.au/event/last-day-of-term-1-2/
CATEGORIES:General
END:VEVENT
BEGIN:VEVENT
DTSTART;TZID=Australia/Melbourne:20200327T113000
DTEND;TZID=Australia/Melbourne:20200327T123000
DTSTAMP:20200301T015934
CREATED:20200115T043510Z
LAST-MODIFIED:20200115T043510Z
UID:789847-1585308600-1585312200@www.firbank.vic.edu.au
SUMMARY:Brighton Junior Easter Service
DESCRIPTION:
URL:https://www.firbank.vic.edu.au/event/brighton-junior-easter-service/
LOCATION:St Andrew’s Church
CATEGORIES:Junior Campus - Brighton
END:VEVENT
BEGIN:VEVENT
DTSTART;TZID=Australia/Melbourne:20200327T130000
DTEND;TZID=Australia/Melbourne:20200327T140000
DTSTAMP:20200301T015934
CREATED:20200115T043540Z
LAST-MODIFIED:20200115T043540Z
UID:789849-1585314000-1585317600@www.firbank.vic.edu.au
SUMMARY:PATH Pizza Lunch
DESCRIPTION:
URL:https://www.firbank.vic.edu.au/event/path-pizza-lunch-2/
CATEGORIES:Junior Campus - Brighton
END:VEVENT
BEGIN:VEVENT
DTSTART;TZID=Australia/Melbourne:20200327T134000
DTEND;TZID=Australia/Melbourne:20200327T143000
DTSTAMP:20200301T015934
CREATED:20200109T042923Z
LAST-MODIFIED:20200109T042923Z
UID:789757-1585316400-1585319400@www.firbank.vic.edu.au
SUMMARY:Senior School Easter Service
DESCRIPTION:
URL:https://www.firbank.vic.edu.au/event/senior-school-easter-service-2/
LOCATION:St Andrew’s Church
CATEGORIES:Senior Campus
END:VEVENT
BEGIN:VEVENT
DTSTART;TZID=Australia/Melbourne:20200327T183000
DTEND;TZID=Australia/Melbourne:20200327T183000
DTSTAMP:20200301T015934
CREATED:20191125T032448Z
LAST-MODIFIED:20191125T033420Z
UID:789503-1585333800-1585333800@www.firbank.vic.edu.au
SUMMARY:2010 10 Year Reunion
DESCRIPTION:
URL:https://www.firbank.vic.edu.au/event/2010-10-year-reunion/
LOCATION:Hindley House
CATEGORIES:General
END:VEVENT
BEGIN:VEVENT
DTSTART;TZID=Australia/Melbourne:20200402T090000
DTEND;TZID=Australia/Melbourne:20200402T100000
DTSTAMP:20200301T015934
CREATED:20200130T000931Z
LAST-MODIFIED:20200130T000931Z
UID:790228-1585818000-1585821600@www.firbank.vic.edu.au
SUMMARY:PATH Meeting
DESCRIPTION:
URL:https://www.firbank.vic.edu.au/event/path-meeting-6/
CATEGORIES:Junior Campus - Brighton
END:VEVENT
BEGIN:VEVENT
DTSTART;TZID=Australia/Melbourne:20200403T120000
DTEND;TZID=Australia/Melbourne:20200403T140000
DTSTAMP:20200301T015934
CREATED:20191125T031944Z
LAST-MODIFIED:20191215T215326Z
UID:789492-1585915200-1585922400@www.firbank.vic.edu.au
SUMMARY:1970 50 Year Reunion
DESCRIPTION:
URL:https://www.firbank.vic.edu.au/event/1970-50-year-reunion/
LOCATION:Hindley House
CATEGORIES:General
END:VEVENT
END:VCALENDAR