BEGIN:VCALENDAR
VERSION:2.0
PRODID:-//Firbank Grammar - ECPv5.0.2.1//NONSGML v1.0//EN
CALSCALE:GREGORIAN
METHOD:PUBLISH
X-WR-CALNAME:Firbank Grammar
X-ORIGINAL-URL:https://www.firbank.vic.edu.au
X-WR-CALDESC:Events for Firbank Grammar
BEGIN:VTIMEZONE
TZID:Australia/Melbourne
BEGIN:STANDARD
TZOFFSETFROM:+1100
TZOFFSETTO:+1000
TZNAME:AEST
DTSTART:20200404T160000
END:STANDARD
BEGIN:DAYLIGHT
TZOFFSETFROM:+1000
TZOFFSETTO:+1100
TZNAME:AEDT
DTSTART:20201003T160000
END:DAYLIGHT
END:VTIMEZONE
BEGIN:VEVENT
DTSTART;TZID=Australia/Melbourne:20200305T090000
DTEND;TZID=Australia/Melbourne:20200305T100000
DTSTAMP:20200301T075847
CREATED:20200115T030040Z
LAST-MODIFIED:20200115T030040Z
UID:789814-1583398800-1583402400@www.firbank.vic.edu.au
SUMMARY:PATH Meeting
DESCRIPTION:
URL:https://www.firbank.vic.edu.au/event/path-meeting-5/
CATEGORIES:Junior Campus - Brighton
END:VEVENT
END:VCALENDAR